BEGIN:VCALENDAR
VERSION:2.0
PRODID:-//HRIA - ECPv6.15.20//NONSGML v1.0//EN
CALSCALE:GREGORIAN
METHOD:PUBLISH
X-WR-CALNAME:HRIA
X-ORIGINAL-URL:https://hillenroad.org
X-WR-CALDESC:Events for HRIA
REFRESH-INTERVAL;VALUE=DURATION:PT1H
X-Robots-Tag:noindex
X-PUBLISHED-TTL:PT1H
BEGIN:VTIMEZONE
TZID:America/New_York
BEGIN:DAYLIGHT
TZOFFSETFROM:-0500
TZOFFSETTO:-0400
TZNAME:EDT
DTSTART:20220313T070000
END:DAYLIGHT
BEGIN:STANDARD
TZOFFSETFROM:-0400
TZOFFSETTO:-0500
TZNAME:EST
DTSTART:20221106T060000
END:STANDARD
BEGIN:DAYLIGHT
TZOFFSETFROM:-0500
TZOFFSETTO:-0400
TZNAME:EDT
DTSTART:20230312T070000
END:DAYLIGHT
BEGIN:STANDARD
TZOFFSETFROM:-0400
TZOFFSETTO:-0500
TZNAME:EST
DTSTART:20231105T060000
END:STANDARD
BEGIN:DAYLIGHT
TZOFFSETFROM:-0500
TZOFFSETTO:-0400
TZNAME:EDT
DTSTART:20240310T070000
END:DAYLIGHT
BEGIN:STANDARD
TZOFFSETFROM:-0400
TZOFFSETTO:-0500
TZNAME:EST
DTSTART:20241103T060000
END:STANDARD
END:VTIMEZONE
BEGIN:VEVENT
DTSTART;TZID=America/New_York:20230916T120000
DTEND;TZID=America/New_York:20230916T170000
DTSTAMP:20260424T051924
CREATED:20220428T040639Z
LAST-MODIFIED:20230907T020623Z
UID:92-1694865600-1694883600@hillenroad.org
SUMMARY:Boordy Vineyard
DESCRIPTION:Enjoy the afternoon at Boordy Vineyards \nFree Admission- Guest must be 21 years of age \nTour is at 3pm \nNo alcohol other than Boordy’s is permitted in the Boordy Barn \n 
URL:https://hillenroad.org/event/boordy-vineyard/
LOCATION:Boordy Vineyard\, 12820 Long Green Pike\, Hydes\, MD\, 21082\, United States
CATEGORIES:Event
ATTACH;FMTTYPE=image/png:https://hillenroad.org/wp-content/uploads/2022/04/Boordy1sm.png
END:VEVENT
BEGIN:VEVENT
DTSTART;TZID=America/New_York:20230916T093000
DTEND;TZID=America/New_York:20230916T150000
DTSTAMP:20260424T051924
CREATED:20230915T170139Z
LAST-MODIFIED:20230915T170433Z
UID:3096-1694856600-1694876400@hillenroad.org
SUMMARY:Understanding iGaming and Online Gambling - MSU
DESCRIPTION:Understanding the Impact of iGaming and Online Betting in our Community \nHelp up understand how iGaming and online betting affect our community – your input can shape the future of online betting relations in Maryland.  Don’t miss this opportunity to learn\, connect and make a difference.  Thank you for being part of this vital research event. Together we can create positive change. \nRegistration 9:30 AM \n10:00 AM to 3:00 PM \nhttps://events.morgan.edu/event/morgan_community_event_understanding_the_impact_of_igaming_and_online_betting_in_our_community \nMorgan State University\, Business School Building & Freedom Plaza
URL:https://hillenroad.org/event/understanding-igaming-and-online-banking-msu/
LOCATION:Morgan State University\, 1700 E Cold Spring Lane\, Baltimore\, MD\, 21251\, United States
ATTACH;FMTTYPE=image/jpeg:https://hillenroad.org/wp-content/uploads/2023/09/Morgan-iGambling.jpg
END:VEVENT
BEGIN:VEVENT
DTSTART;VALUE=DATE:20230831
DTEND;VALUE=DATE:20230901
DTSTAMP:20260424T051924
CREATED:20230729T233248Z
LAST-MODIFIED:20230729T233749Z
UID:2999-1693440000-1693526399@hillenroad.org
SUMMARY:Estate Planning Legal Clinic
DESCRIPTION:Open to income eligible Baltimore homeowners.
URL:https://hillenroad.org/event/estate-planning-legal-clinic/
CATEGORIES:Event
ATTACH;FMTTYPE=image/png:https://hillenroad.org/wp-content/uploads/2023/07/Estate-Planning-Legal-Clinic-8-23.png
END:VEVENT
BEGIN:VEVENT
DTSTART;VALUE=DATE:20230824
DTEND;VALUE=DATE:20230825
DTSTAMP:20260424T051924
CREATED:20230729T233051Z
LAST-MODIFIED:20230729T233051Z
UID:2995-1692835200-1692921599@hillenroad.org
SUMMARY:Estate Planning Legal Clinic - Register
DESCRIPTION:Last day for Registration  August 24\, 2023
URL:https://hillenroad.org/event/estate-planning-legal-clinic-register/
CATEGORIES:Event
ATTACH;FMTTYPE=image/png:https://hillenroad.org/wp-content/uploads/2023/07/Estate-Planning-Legal-Clinic-8-23.png
END:VEVENT
BEGIN:VEVENT
DTSTART;TZID=America/New_York:20230819T140000
DTEND;TZID=America/New_York:20230819T170000
DTSTAMP:20260424T051924
CREATED:20230810T165440Z
LAST-MODIFIED:20230810T170207Z
UID:3023-1692453600-1692464400@hillenroad.org
SUMMARY:Cops and Community 9th Annual
DESCRIPTION:Northwood Baseball League is sponsoring their 9th Annual Cops and Kids Community Day filled with baseball\, music\, and backpacks with school supplies. The Kids and Cops will play the State’s Attorney’s Office. It is always a great time!
URL:https://hillenroad.org/event/cops-and-community-9th-annual/
LOCATION:Northwood Baseball Complex\, 1801 Argonne Drive\, Baltimore\, MD\, 21218\, United States
ATTACH;FMTTYPE=image/jpeg:https://hillenroad.org/wp-content/uploads/2023/08/Cops-and-Community9.jpg
END:VEVENT
END:VCALENDAR