BEGIN:VCALENDAR
VERSION:2.0
PRODID:-//HRIA - ECPv6.15.20//NONSGML v1.0//EN
CALSCALE:GREGORIAN
METHOD:PUBLISH
X-ORIGINAL-URL:https://hillenroad.org
X-WR-CALDESC:Events for HRIA
REFRESH-INTERVAL;VALUE=DURATION:PT1H
X-Robots-Tag:noindex
X-PUBLISHED-TTL:PT1H
BEGIN:VTIMEZONE
TZID:America/New_York
BEGIN:DAYLIGHT
TZOFFSETFROM:-0500
TZOFFSETTO:-0400
TZNAME:EDT
DTSTART:20250309T070000
END:DAYLIGHT
BEGIN:STANDARD
TZOFFSETFROM:-0400
TZOFFSETTO:-0500
TZNAME:EST
DTSTART:20251102T060000
END:STANDARD
BEGIN:DAYLIGHT
TZOFFSETFROM:-0500
TZOFFSETTO:-0400
TZNAME:EDT
DTSTART:20260308T070000
END:DAYLIGHT
BEGIN:STANDARD
TZOFFSETFROM:-0400
TZOFFSETTO:-0500
TZNAME:EST
DTSTART:20261101T060000
END:STANDARD
BEGIN:DAYLIGHT
TZOFFSETFROM:-0500
TZOFFSETTO:-0400
TZNAME:EDT
DTSTART:20270314T070000
END:DAYLIGHT
BEGIN:STANDARD
TZOFFSETFROM:-0400
TZOFFSETTO:-0500
TZNAME:EST
DTSTART:20271107T060000
END:STANDARD
END:VTIMEZONE
BEGIN:VEVENT
DTSTART;TZID=America/New_York:20260124T100000
DTEND;TZID=America/New_York:20260124T120000
DTSTAMP:20260423T194512
CREATED:20240223T213832Z
LAST-MODIFIED:20260124T093302Z
UID:3284-1769248800-1769256000@hillenroad.org
SUMMARY:Community Meeting - Virtual
DESCRIPTION:Monthly Community Meeting\n4th Saturday of the Month \nVirtual Only\nSaturday at 10am\n  \nJoin Zoom Meeting \nClick here\n\nhttps://us06web.zoom.us/j/81595675600?pwd=aoKZcXAgQxbLqtKnPJWz4e7GloaIb9.1 \nMeeting ID: 815 9567 5600 \nPasscode: 374172 \n—\nOne tap mobile\n+13017158592\,\,81595675600#\,\,\,\,*374172# US (Washington DC) \n+13052241968\,\,81595675600#\,\,\,\,*374172# US
URL:https://hillenroad.org/event/community-meeting-in-person-6/
LOCATION:Enoch Pratt Library – Northwood\, 4420 Loch Raven Blvd\, Baltimore\, MD\, 21218\, United States
CATEGORIES:Community
ATTACH;FMTTYPE=image/jpeg:https://hillenroad.org/wp-content/uploads/2022/04/Communitysm.jpg
END:VEVENT
BEGIN:VEVENT
DTSTART;TZID=America/New_York:20260129T190000
DTEND;TZID=America/New_York:20260129T210000
DTSTAMP:20260423T194512
CREATED:20251122T153616Z
LAST-MODIFIED:20251122T155723Z
UID:3931-1769713200-1769720400@hillenroad.org
SUMMARY:Northeast Police District Meeting
DESCRIPTION:  \nIn Person: \nNortheastern District \n1900 Argonne Drive \nBaltimore MD 21218 \n(RollCall room) \n~~~~~~~~~~~~~~~~~~ \n4th Thursday at 7 p.m. – Northeast District Roll Call Room and Virtual via Zoom \nMicrosoft Teams \nJoin the meeting now \nMeeting ID: 238 605 899 858 \nPasscode: 4tE6yT79 \nDial in by phone \n+1 667-228-6519\, 434135551# United States\, Aberdeen \nFind a local number \nPhone conference ID: 434 135 551# \nFor more information click here
URL:https://hillenroad.org/event/police-district-meeting-8/
LOCATION:Northeast District Police\, 1900 Argonne Drive\, Baltimore\, MD\, 21218\, United States
CATEGORIES:Meetings
ATTACH;FMTTYPE=image/jpeg:https://hillenroad.org/wp-content/uploads/2022/08/Police.jpg
END:VEVENT
BEGIN:VEVENT
DTSTART;TZID=America/New_York:20260226T190000
DTEND;TZID=America/New_York:20260226T200000
DTSTAMP:20260423T194512
CREATED:20260210T174245Z
LAST-MODIFIED:20260210T174512Z
UID:4103-1772132400-1772136000@hillenroad.org
SUMMARY:Northeastern Police District Meeting
DESCRIPTION:In Person: \nNortheastern District \n1900 Argonne Drive \nBaltimore MD 21218 \n(RollCall room) \n~~~~~~~~~~~~~~~~~~ \n4th Thursday at 7 p.m. – Northeast District Roll Call Room and Virtual via Zoom \nMicrosoft Teams \nJoin the meeting now \nMeeting ID: 238 605 899 858 \nPasscode: 4tE6yT79 \nDial in by phone \n+1 667-228-6519\, 434135551# United States\, Aberdeen \nFind a local number \nPhone conference ID: 434 135 551# \nFor more information click here
URL:https://hillenroad.org/event/northeastern-police-district-meeting/
LOCATION:Northeast District Police\, 1900 Argonne Drive\, Baltimore\, MD\, 21218\, United States
CATEGORIES:Community
ATTACH;FMTTYPE=image/jpeg:https://hillenroad.org/wp-content/uploads/2022/08/Police.jpg
END:VEVENT
BEGIN:VEVENT
DTSTART;TZID=America/New_York:20260228T100000
DTEND;TZID=America/New_York:20260228T120000
DTSTAMP:20260423T194512
CREATED:20260210T172539Z
LAST-MODIFIED:20260210T172623Z
UID:4082-1772272800-1772280000@hillenroad.org
SUMMARY:Community Meeting - Virtual
DESCRIPTION:Monthly Community Meeting\n4th Saturday of the Month \nVirtual Only\nSaturday at 10am\n  \nJoin Zoom Meeting \nClick here\n\nhttps://us06web.zoom.us/j/81595675600?pwd=aoKZcXAgQxbLqtKnPJWz4e7GloaIb9.1 \nMeeting ID: 829 7878 3558 \nPasscode: 714632 \nTo call in: \nOne tap mobile +1 301 715 8592
URL:https://hillenroad.org/event/community-meeting-virtual-5/
ATTACH;FMTTYPE=image/jpeg:https://hillenroad.org/wp-content/uploads/2022/04/Communitysm.jpg
END:VEVENT
BEGIN:VEVENT
DTSTART;TZID=America/New_York:20260321T090000
DTEND;TZID=America/New_York:20260321T120000
DTSTAMP:20260423T194512
CREATED:20230617T203317Z
LAST-MODIFIED:20260210T172143Z
UID:2936-1774083600-1774094400@hillenroad.org
SUMMARY:Dumpster Day
DESCRIPTION:Refuse\, garbage\, and litter collection. Dumpster will be provided 9am to 12pm for HRIA residence. \nLocation:  Roundhill Road and Tivoly Avenue\, see map
URL:https://hillenroad.org/event/dumpster-day-4/
LOCATION:Dumpster Day\, 1534 Roundhill rd\, baltimore\, MD\, 21218\, United States
ATTACH;FMTTYPE=image/jpeg:https://hillenroad.org/wp-content/uploads/2022/05/Trashsm.jpg
END:VEVENT
BEGIN:VEVENT
DTSTART;TZID=America/New_York:20260328T100000
DTEND;TZID=America/New_York:20260328T120000
DTSTAMP:20260423T194512
CREATED:20260309T130412Z
LAST-MODIFIED:20260309T130412Z
UID:4115-1774692000-1774699200@hillenroad.org
SUMMARY:Community Meeting - In Person Only
DESCRIPTION:Monthly Community Meeting\n  \nLocation:  Northwood Library\, Lower Level \nMarch 28 @ 10 am
URL:https://hillenroad.org/event/community-meeting-in-person-only/
LOCATION:Enoch Pratt Library – Northwood\, 4420 Loch Raven Blvd\, Baltimore\, MD\, 21218\, United States
CATEGORIES:Community
ATTACH;FMTTYPE=image/jpeg:https://hillenroad.org/wp-content/uploads/2022/04/Communitysm.jpg
END:VEVENT
BEGIN:VEVENT
DTSTART;TZID=America/New_York:20260423T190000
DTEND;TZID=America/New_York:20260423T200000
DTSTAMP:20260423T194512
CREATED:20260413T230429Z
LAST-MODIFIED:20260413T230802Z
UID:4137-1776970800-1776974400@hillenroad.org
SUMMARY:Northeastern Police District Meeting
DESCRIPTION:In Person: \nNortheastern District \n1900 Argonne Drive \nBaltimore MD 21218 \n(RollCall room) \n~~~~~~~~~~~~~~~~~~ \n4th Thursday at 7 p.m. – Northeast District Roll Call Room and Virtual via Zoom \nMicrosoft Teams \nJoin the meeting now \nMeeting ID: 238 605 899 858 \nPasscode: 4tE6yT79 \nDial in by phone \n+1 667-228-6519\, 434135551# United States\, Aberdeen \nFind a local number \nPhone conference ID: 434 135 551# \nFor more information click here
URL:https://hillenroad.org/event/northeastern-police-district-meeting-2/
CATEGORIES:Community
ATTACH;FMTTYPE=image/jpeg:https://hillenroad.org/wp-content/uploads/2022/08/Police.jpg
END:VEVENT
BEGIN:VEVENT
DTSTART;TZID=America/New_York:20260425T100000
DTEND;TZID=America/New_York:20260425T113000
DTSTAMP:20260423T194512
CREATED:20260413T231011Z
LAST-MODIFIED:20260413T231211Z
UID:4139-1777111200-1777116600@hillenroad.org
SUMMARY:Community Meeting - In Person
DESCRIPTION:Monthly Community Meeting\n  \nLocation:  Northwood Library\, Lower Level \nApril  25 @ 10 am
URL:https://hillenroad.org/event/community-meeting-in-person-8/
LOCATION:Enoch Pratt Library – Northwood\, 4420 Loch Raven Blvd\, Baltimore\, MD\, 21218\, United States
CATEGORIES:Meetings
ATTACH;FMTTYPE=image/png:https://hillenroad.org/wp-content/uploads/2022/08/grand-opening2.png
END:VEVENT
BEGIN:VEVENT
DTSTART;TZID=America/New_York:20260502T110000
DTEND;TZID=America/New_York:20260502T120000
DTSTAMP:20260423T194512
CREATED:20260413T234544Z
LAST-MODIFIED:20260413T234649Z
UID:4164-1777719600-1777723200@hillenroad.org
SUMMARY:Greater Northwood Covenant Association - Meeting
DESCRIPTION:Quarterly Board Meeting
URL:https://hillenroad.org/event/greater-northwood-covenant-association-meeting/
LOCATION:Northeast District Police\, 1900 Argonne Drive\, Baltimore\, MD\, 21218\, United States
ATTACH;FMTTYPE=image/png:https://hillenroad.org/wp-content/uploads/2026/04/GNCA-image.png
END:VEVENT
BEGIN:VEVENT
DTSTART;TZID=America/New_York:20260523T100000
DTEND;TZID=America/New_York:20260523T113000
DTSTAMP:20260423T194512
CREATED:20260413T231610Z
LAST-MODIFIED:20260413T231610Z
UID:4142-1779530400-1779535800@hillenroad.org
SUMMARY:Community Meeting In Person
DESCRIPTION:Monthly Community Meeting\n  \nLocation:  Northwood Library\, Lower Level \nMay 23 @ 10 am
URL:https://hillenroad.org/event/community-meeting-in-person-9/
CATEGORIES:Community,Meetings
ATTACH;FMTTYPE=image/jpeg:https://hillenroad.org/wp-content/uploads/2022/04/Communitysm.jpg
END:VEVENT
BEGIN:VEVENT
DTSTART;TZID=America/New_York:20260528T190000
DTEND;TZID=America/New_York:20260528T200000
DTSTAMP:20260423T194512
CREATED:20260413T235541Z
LAST-MODIFIED:20260413T235643Z
UID:4172-1779994800-1779998400@hillenroad.org
SUMMARY:Northeastern Police District Meeting
DESCRIPTION:In Person: \nNortheastern District \n1900 Argonne Drive \nBaltimore MD 21218 \n(RollCall room) \n~~~~~~~~~~~~~~~~~~ \n4th Thursday at 7 p.m. – Northeast District Roll Call Room and Virtual via Zoom \nMicrosoft Teams \nJoin the meeting now \nMeeting ID: 238 605 899 858 \nPasscode: 4tE6yT79 \nDial in by phone \n+1 667-228-6519\, 434135551# United States\, Aberdeen \nFind a local number \nPhone conference ID: 434 135 551# \nFor more information click here
URL:https://hillenroad.org/event/northeastern-police-district-meeting-3/
CATEGORIES:Community,Meetings
ATTACH;FMTTYPE=image/jpeg:https://hillenroad.org/wp-content/uploads/2022/08/Police.jpg
END:VEVENT
BEGIN:VEVENT
DTSTART;TZID=America/New_York:20260613T090000
DTEND;TZID=America/New_York:20260613T120000
DTSTAMP:20260423T194512
CREATED:20240308T002106Z
LAST-MODIFIED:20260413T230157Z
UID:3319-1781341200-1781352000@hillenroad.org
SUMMARY:Dumpster Day
DESCRIPTION:Refuse\, garbage\, and litter collection. Dumpster will be provided 9am to 12pm for HRIA residence. Location:  1600 Tivoly\, see map
URL:https://hillenroad.org/event/dumpster-day/
LOCATION:Dumpster Day Tivoly\, 1600 Tivoly Avenue\, Baltimore\, MD\, United States
CATEGORIES:Community,Event
ATTACH;FMTTYPE=image/jpeg:https://hillenroad.org/wp-content/uploads/2022/05/Trashsm.jpg
END:VEVENT
END:VCALENDAR