BEGIN:VCALENDAR
VERSION:2.0
PRODID:-//HRIA - ECPv6.15.20//NONSGML v1.0//EN
CALSCALE:GREGORIAN
METHOD:PUBLISH
X-WR-CALNAME:HRIA
X-ORIGINAL-URL:https://hillenroad.org
X-WR-CALDESC:Events for HRIA
REFRESH-INTERVAL;VALUE=DURATION:PT1H
X-Robots-Tag:noindex
X-PUBLISHED-TTL:PT1H
BEGIN:VTIMEZONE
TZID:America/New_York
BEGIN:DAYLIGHT
TZOFFSETFROM:-0500
TZOFFSETTO:-0400
TZNAME:EDT
DTSTART:20230312T070000
END:DAYLIGHT
BEGIN:STANDARD
TZOFFSETFROM:-0400
TZOFFSETTO:-0500
TZNAME:EST
DTSTART:20231105T060000
END:STANDARD
BEGIN:DAYLIGHT
TZOFFSETFROM:-0500
TZOFFSETTO:-0400
TZNAME:EDT
DTSTART:20240310T070000
END:DAYLIGHT
BEGIN:STANDARD
TZOFFSETFROM:-0400
TZOFFSETTO:-0500
TZNAME:EST
DTSTART:20241103T060000
END:STANDARD
BEGIN:DAYLIGHT
TZOFFSETFROM:-0500
TZOFFSETTO:-0400
TZNAME:EDT
DTSTART:20250309T070000
END:DAYLIGHT
BEGIN:STANDARD
TZOFFSETFROM:-0400
TZOFFSETTO:-0500
TZNAME:EST
DTSTART:20251102T060000
END:STANDARD
BEGIN:DAYLIGHT
TZOFFSETFROM:-0500
TZOFFSETTO:-0400
TZNAME:EDT
DTSTART:20260308T070000
END:DAYLIGHT
BEGIN:STANDARD
TZOFFSETFROM:-0400
TZOFFSETTO:-0500
TZNAME:EST
DTSTART:20261101T060000
END:STANDARD
BEGIN:DAYLIGHT
TZOFFSETFROM:-0500
TZOFFSETTO:-0400
TZNAME:EDT
DTSTART:20270314T070000
END:DAYLIGHT
BEGIN:STANDARD
TZOFFSETFROM:-0400
TZOFFSETTO:-0500
TZNAME:EST
DTSTART:20271107T060000
END:STANDARD
END:VTIMEZONE
BEGIN:VEVENT
DTSTART;TZID=America/New_York:20260228T100000
DTEND;TZID=America/New_York:20260228T120000
DTSTAMP:20260423T180639
CREATED:20260210T172539Z
LAST-MODIFIED:20260210T172623Z
UID:4082-1772272800-1772280000@hillenroad.org
SUMMARY:Community Meeting - Virtual
DESCRIPTION:Monthly Community Meeting\n4th Saturday of the Month \nVirtual Only\nSaturday at 10am\n  \nJoin Zoom Meeting \nClick here\n\nhttps://us06web.zoom.us/j/81595675600?pwd=aoKZcXAgQxbLqtKnPJWz4e7GloaIb9.1 \nMeeting ID: 829 7878 3558 \nPasscode: 714632 \nTo call in: \nOne tap mobile +1 301 715 8592
URL:https://hillenroad.org/event/community-meeting-virtual-5/
ATTACH;FMTTYPE=image/jpeg:https://hillenroad.org/wp-content/uploads/2022/04/Communitysm.jpg
END:VEVENT
BEGIN:VEVENT
DTSTART;TZID=America/New_York:20260226T190000
DTEND;TZID=America/New_York:20260226T200000
DTSTAMP:20260423T180639
CREATED:20260210T174245Z
LAST-MODIFIED:20260210T174512Z
UID:4103-1772132400-1772136000@hillenroad.org
SUMMARY:Northeastern Police District Meeting
DESCRIPTION:In Person: \nNortheastern District \n1900 Argonne Drive \nBaltimore MD 21218 \n(RollCall room) \n~~~~~~~~~~~~~~~~~~ \n4th Thursday at 7 p.m. – Northeast District Roll Call Room and Virtual via Zoom \nMicrosoft Teams \nJoin the meeting now \nMeeting ID: 238 605 899 858 \nPasscode: 4tE6yT79 \nDial in by phone \n+1 667-228-6519\, 434135551# United States\, Aberdeen \nFind a local number \nPhone conference ID: 434 135 551# \nFor more information click here
URL:https://hillenroad.org/event/northeastern-police-district-meeting/
LOCATION:Northeast District Police\, 1900 Argonne Drive\, Baltimore\, MD\, 21218\, United States
CATEGORIES:Community
ATTACH;FMTTYPE=image/jpeg:https://hillenroad.org/wp-content/uploads/2022/08/Police.jpg
END:VEVENT
BEGIN:VEVENT
DTSTART;TZID=America/New_York:20260129T190000
DTEND;TZID=America/New_York:20260129T210000
DTSTAMP:20260423T180639
CREATED:20251122T153616Z
LAST-MODIFIED:20251122T155723Z
UID:3931-1769713200-1769720400@hillenroad.org
SUMMARY:Northeast Police District Meeting
DESCRIPTION:  \nIn Person: \nNortheastern District \n1900 Argonne Drive \nBaltimore MD 21218 \n(RollCall room) \n~~~~~~~~~~~~~~~~~~ \n4th Thursday at 7 p.m. – Northeast District Roll Call Room and Virtual via Zoom \nMicrosoft Teams \nJoin the meeting now \nMeeting ID: 238 605 899 858 \nPasscode: 4tE6yT79 \nDial in by phone \n+1 667-228-6519\, 434135551# United States\, Aberdeen \nFind a local number \nPhone conference ID: 434 135 551# \nFor more information click here
URL:https://hillenroad.org/event/police-district-meeting-8/
LOCATION:Northeast District Police\, 1900 Argonne Drive\, Baltimore\, MD\, 21218\, United States
CATEGORIES:Meetings
ATTACH;FMTTYPE=image/jpeg:https://hillenroad.org/wp-content/uploads/2022/08/Police.jpg
END:VEVENT
BEGIN:VEVENT
DTSTART;TZID=America/New_York:20260124T100000
DTEND;TZID=America/New_York:20260124T120000
DTSTAMP:20260423T180639
CREATED:20240223T213832Z
LAST-MODIFIED:20260124T093302Z
UID:3284-1769248800-1769256000@hillenroad.org
SUMMARY:Community Meeting - Virtual
DESCRIPTION:Monthly Community Meeting\n4th Saturday of the Month \nVirtual Only\nSaturday at 10am\n  \nJoin Zoom Meeting \nClick here\n\nhttps://us06web.zoom.us/j/81595675600?pwd=aoKZcXAgQxbLqtKnPJWz4e7GloaIb9.1 \nMeeting ID: 815 9567 5600 \nPasscode: 374172 \n—\nOne tap mobile\n+13017158592\,\,81595675600#\,\,\,\,*374172# US (Washington DC) \n+13052241968\,\,81595675600#\,\,\,\,*374172# US
URL:https://hillenroad.org/event/community-meeting-in-person-6/
LOCATION:Enoch Pratt Library – Northwood\, 4420 Loch Raven Blvd\, Baltimore\, MD\, 21218\, United States
CATEGORIES:Community
ATTACH;FMTTYPE=image/jpeg:https://hillenroad.org/wp-content/uploads/2022/04/Communitysm.jpg
END:VEVENT
BEGIN:VEVENT
DTSTART;TZID=America/New_York:20251205T100000
DTEND;TZID=America/New_York:20251205T120000
DTSTAMP:20260423T180639
CREATED:20251122T142528Z
LAST-MODIFIED:20251122T142645Z
UID:3911-1764928800-1764936000@hillenroad.org
SUMMARY:Older Adults Fire Prevention and Safety Kickoff
DESCRIPTION:Friday\, December 5\, 2025\n10:00 AM–12:00 PM\nWaxter Senior Center\n1000 Cathedral Street Baltimore MD\, 21201\n\nFor additional information\, please contact the Mayor’s Office of Older Adult Affairs & Advocacy (MOAAA) at 410- 396-6400.\nJoin the Mayor’s Office of Older Adult Affairs & Advocacy\, and the Baltimore City Fire Department\, for an important community event dedicated to helping older adults stay safe from fire hazards at home.\nRegister Here\n  \nRegistration Closes on:\nNovember 25\, 2025
URL:https://hillenroad.org/event/older-adult-fire-protection/
CATEGORIES:Committee,Community
ATTACH;FMTTYPE=image/png:https://hillenroad.org/wp-content/uploads/2025/11/Communications-Fire-Prevention-Safety-Kickoff.png
END:VEVENT
BEGIN:VEVENT
DTSTART;TZID=America/New_York:20251129T180000
DTEND;TZID=America/New_York:20251129T220000
DTSTAMP:20260423T180639
CREATED:20251122T140109Z
LAST-MODIFIED:20251122T140502Z
UID:3900-1764439200-1764453600@hillenroad.org
SUMMARY:Miracle on 34th Street Lighting!
DESCRIPTION:Saturday\, November 29\, 2025
URL:https://hillenroad.org/event/miracle-on-34th-street-lighting/
ATTACH;FMTTYPE=image/jpeg:https://hillenroad.org/wp-content/uploads/2025/11/Miracle-34th-25.jpg
END:VEVENT
BEGIN:VEVENT
DTSTART;TZID=America/New_York:20251125T143000
DTEND;TZID=America/New_York:20251125T163000
DTSTAMP:20260423T180639
CREATED:20251122T134938Z
LAST-MODIFIED:20251122T135021Z
UID:3898-1764081000-1764088200@hillenroad.org
SUMMARY:10 Annual Thanksgiving Free Food Drive - Dymond Shantyl Dantzler Legacy Foundation
DESCRIPTION:Click Here\n  \nTuesday November 25\, 2025 \n2:30pm While supplies last \nLocation – Randallstown High School \nDSD’s Purpose is to provide food assistance within the communities of Randallstown\, Reisterstown Milford\, Pikeville and surrounding area with free\, fresh food needed for the Thanksgiving holiday season.
URL:https://hillenroad.org/event/10-annual-thanksgiving-free-food-drive-dymond-shantyl-dantzler-legacy-foundation/
ATTACH;FMTTYPE=image/jpeg:https://hillenroad.org/wp-content/uploads/2025/11/10-annual-Thanksgiving-food-drive-25.jpg
END:VEVENT
BEGIN:VEVENT
DTSTART;TZID=America/New_York:20251125T080000
DTEND;TZID=America/New_York:20251125T140000
DTSTAMP:20260423T180639
CREATED:20251122T141428Z
LAST-MODIFIED:20251122T154704Z
UID:3903-1764057600-1764079200@hillenroad.org
SUMMARY:Older Adults Fire and Safety Registration
DESCRIPTION:Friday\, December 5\, 2025\n10:00 AM–12:00 PM\nWaxter Senior Center\n1000 Cathedral Street Baltimore MD\, 21201\n\nFor additional information\, please contact the Mayor’s Office of Older Adult Affairs & Advocacy (MOAAA) at 410- 396-6400.\nJoin the Mayor’s Office of Older Adult Affairs & Advocacy\, and the Baltimore City Fire Department\, for an important community event dedicated to helping older adults stay safe from fire hazards at home.\nRegister Here\n  \nRegistration Closes on:\nNovember 25\, 2025
URL:https://hillenroad.org/event/3903/
ATTACH;FMTTYPE=image/png:https://hillenroad.org/wp-content/uploads/2025/11/Communications-Fire-Prevention-Safety-Kickoff.png
END:VEVENT
BEGIN:VEVENT
DTSTART;TZID=America/New_York:20251124T173000
DTEND;TZID=America/New_York:20251124T210000
DTSTAMP:20260423T180639
CREATED:20251122T132716Z
LAST-MODIFIED:20251122T133509Z
UID:3891-1764005400-1764018000@hillenroad.org
SUMMARY:Turkey Give Away - University of Maryland Medical Center& Baltimore Coty Recreation & Parks
DESCRIPTION:Dear Baltimore Community\, \nWe’re excited to announce that the University of Maryland Medical Center is partnering with Baltimore City Recreation & Parks to help families celebrate Thanksgiving! \nUMMC is giving away 190 FREE turkeys to our community members. \nEvent Details: \n\nWhat:Free turkey giveaway (10 turkeys per location)\nWhere:19 Recreation Centers across Baltimore\nWhen:Monday\, November 24\, 2025\nPick-up Time:5:30 PM – 9:00 PM\nRegistration:Required in advance\n\nHow to Get Your Turkey: \n\nRegister online at https://bit.ly/4i3jd0k\nSelect your preferred pick-up location\nPick up your turkey on November 24 at your registered location during the designated time\n\nPlease note: Pre-registration is required. Only 1 turkey per household. \nRegister Here\nLocations: \n\nBentalou – 222 N. Bentalou St.\, 21223\nCahill – 4001 Clifton Ave.\, 21216\nCarroll Park – 800 Bayard St.\, 21223\nEdgewood/Lyndhurst – 835 Allendale St.\, 21229\nElla Bailey – 100 E. Heath St.\, 21230\nFred B. Leidig – 4521 Frederick Ave.\, 21229\nHarlem Park – 700 N. Calhoun St.\, 21217\nJames McHenry – 911 Hollins St.\, 21223\nLakeland – 2921 Stranden Rd.\, 21230\nLocust Point – 1627 Fort Ave.\, 21230\nMary E. Rodman – 3600 Mulberry St.\, 21229\nMorrell Park – 2651 Tolley St.\, 21230\nMount Royal – 120 W. Mosher St.\, 21217\nParkview – 2610 Francis St.\, 21217\nRobert C. Marshall – 1201 Pennsylvania Ave.\, 21201\nSamuel F.B. Morse – 424 Pulaski St.\, 21223\nSolo Gibbs – 1044 Leadenhall St.\, 21230\nTowanda – 4100 Towanda Ave.\, 21215
URL:https://hillenroad.org/event/turkey-give-away-university-of-maryland-medical-center-baltimore-coty-recreation-parks/
ATTACH;FMTTYPE=image/png:https://hillenroad.org/wp-content/uploads/2025/11/Turkey-Give-away-25.png
END:VEVENT
BEGIN:VEVENT
DTSTART;TZID=America/New_York:20251122T120000
DTEND;TZID=America/New_York:20251122T140000
DTSTAMP:20260423T180639
CREATED:20251122T160944Z
LAST-MODIFIED:20251122T160944Z
UID:3937-1763812800-1763820000@hillenroad.org
SUMMARY:Turkey Give Away - Northeast Police District
DESCRIPTION:Saturday\, November 22\, 2025\n12 Noon\nThe Hamilton Sports Bar & Grill\n5506 Hardford Road Baltimore\, MD 21214\n\nSponsored by\n“D.E.N.T Group”\nThe Hamilton Sports Bar\nNE District BPD
URL:https://hillenroad.org/event/turkey-give-away-northeast-police-district/
ATTACH;FMTTYPE=image/jpeg:https://hillenroad.org/wp-content/uploads/2025/11/Northeast-District-Turkey-Drive-25.jpg
END:VEVENT
BEGIN:VEVENT
DTSTART;TZID=America/New_York:20251122T120000
DTEND;TZID=America/New_York:20251122T140000
DTSTAMP:20260423T180639
CREATED:20251122T133321Z
LAST-MODIFIED:20251122T133356Z
UID:3894-1763812800-1763820000@hillenroad.org
SUMMARY:Turkey Give Away Provided by the Flowers Whiting Initiative
DESCRIPTION:Saturday November 22\n12pm to 2pm\nBon Secours Community Resource Center   \n31 S. Payson Street\, Baltimore\, MD 21223
URL:https://hillenroad.org/event/turkey-give-away-provided-by-the-flowers-whiting-initiative/
ATTACH;FMTTYPE=image/jpeg:https://hillenroad.org/wp-content/uploads/2025/11/6-annaul-Turkey-give-away-25.jpg
END:VEVENT
BEGIN:VEVENT
DTSTART;TZID=America/New_York:20251122T100000
DTEND;TZID=America/New_York:20251122T120000
DTSTAMP:20260423T180639
CREATED:20251112T134650Z
LAST-MODIFIED:20251112T134718Z
UID:3876-1763805600-1763812800@hillenroad.org
SUMMARY:Community Meeting - In Person Only
DESCRIPTION:Monthly Community Meeting\n  \nLocation:  Northwood Library\, Lower Level \nNovember 22 @ 10 am
URL:https://hillenroad.org/event/3876/
LOCATION:Enoch Pratt Library – Northwood\, 4420 Loch Raven Blvd\, Baltimore\, MD\, 21218\, United States
CATEGORIES:Community
ATTACH;FMTTYPE=image/jpeg:https://hillenroad.org/wp-content/uploads/2022/04/Communitysm.jpg
END:VEVENT
BEGIN:VEVENT
DTSTART;TZID=America/New_York:20251025T100000
DTEND;TZID=America/New_York:20251025T100000
DTSTAMP:20260423T180639
CREATED:20251010T223739Z
LAST-MODIFIED:20251016T152927Z
UID:2893-1761386400-1761386400@hillenroad.org
SUMMARY:Community Meeting - In Person Only
DESCRIPTION:Monthly Community Meeting\n  \nLocation:  All Saints Lutheran Church\, Lower Level \nOctober 25 @ 10 am
URL:https://hillenroad.org/event/community-meeting-in-person-3/
LOCATION:All Saints Evangelical  Lutheran Church\, 4215 Loch Raven Blvd\, Baltimore\, MD\, 21218\, United States
CATEGORIES:Community
ATTACH;FMTTYPE=image/jpeg:https://hillenroad.org/wp-content/uploads/2022/04/Communitysm.jpg
END:VEVENT
BEGIN:VEVENT
DTSTART;TZID=America/New_York:20250927T100000
DTEND;TZID=America/New_York:20250927T120000
DTSTAMP:20260423T180639
CREATED:20250823T160608Z
LAST-MODIFIED:20250915T124153Z
UID:3806-1758967200-1758974400@hillenroad.org
SUMMARY:Community Meeting - In person
DESCRIPTION:Community Residents\nCome to HRIAs Community Meeting\nYour voice is needed\nSaturday\, September 27 @ 10am\nAll Saints Lutheran Church\nUpper level (Use courtyard Entrance)\nThis meeting will be electing Officers and Board Members
URL:https://hillenroad.org/event/3806/
LOCATION:All Saints Evangelical  Lutheran Church\, 4215 Loch Raven Blvd\, Baltimore\, MD\, 21218\, United States
CATEGORIES:Community
ATTACH;FMTTYPE=image/jpeg:https://hillenroad.org/wp-content/uploads/2022/04/Communitysm.jpg
END:VEVENT
BEGIN:VEVENT
DTSTART;TZID=America/New_York:20250823T100000
DTEND;TZID=America/New_York:20250823T120000
DTSTAMP:20260423T180639
CREATED:20250812T225116Z
LAST-MODIFIED:20250812T225116Z
UID:3797-1755943200-1755950400@hillenroad.org
SUMMARY:Community Meeting - In Person
DESCRIPTION:Community Residents\nCome to HRIAs Emergency Community Meeting\nYour voice is needed\nIs Our Community Organization HRIA Worth Saving? \nSaturday\, August 23 @ 10am\nAll Saints Lutheran Church\, Lower Level\n  \nAfter the meeting\, enjoy all saintscommunity cookout
URL:https://hillenroad.org/event/community-meeting-in-person/
LOCATION:All Saints Evangelical  Lutheran Church\, 4215 Loch Raven Blvd\, Baltimore\, MD\, 21218\, United States
CATEGORIES:Community
ATTACH;FMTTYPE=image/jpeg:https://hillenroad.org/wp-content/uploads/2022/04/Communitysm.jpg
END:VEVENT
BEGIN:VEVENT
DTSTART;TZID=America/New_York:20250726T100000
DTEND;TZID=America/New_York:20250726T120000
DTSTAMP:20260423T180639
CREATED:20250125T154731Z
LAST-MODIFIED:20250125T154731Z
UID:3738-1753524000-1753531200@hillenroad.org
SUMMARY:Community Meeting - Virtual
DESCRIPTION:Monthly Community Meeting\n4th Saturday of the Month \nVirtual Only\nZoom Meeting Join Us Click Here.     \nMeeting ID: 825 9270 2386 \nPasscode: hria2025 \nOr Phone Only  \nDial in: 301-715-8592 \nMeeting ID: 825 9270 2386 \nPasscode: 94869676
URL:https://hillenroad.org/event/community-meeting-virtual-4/
CATEGORIES:Community
END:VEVENT
BEGIN:VEVENT
DTSTART;TZID=America/New_York:20250628T100000
DTEND;TZID=America/New_York:20250628T120000
DTSTAMP:20260423T180639
CREATED:20250125T154046Z
LAST-MODIFIED:20250125T154509Z
UID:3736-1751104800-1751112000@hillenroad.org
SUMMARY:Community Meeting - Virtual
DESCRIPTION:Monthly Community Meeting\n4th Saturday of the Month \nVirtual Only\nZoom Meeting Join Us Click Here.     \nMeeting ID: 825 9270 2386 \nPasscode: hria2025 \nOr Phone Only  \nDial in: 301-715-8592 \nMeeting ID: 825 9270 2386 \nPasscode: 94869676
URL:https://hillenroad.org/event/community-meeting-virtual-3/
CATEGORIES:Community
END:VEVENT
BEGIN:VEVENT
DTSTART;TZID=America/New_York:20250531T090000
DTEND;TZID=America/New_York:20250531T120000
DTSTAMP:20260423T180639
CREATED:20230225T151927Z
LAST-MODIFIED:20250321T012837Z
UID:2372-1748682000-1748692800@hillenroad.org
SUMMARY:Dumpster Day
DESCRIPTION:Refuse\, garbage\, and litter collection. Dumpster will be provided 9am to 12pm for HRIA residence. \nLocation:  Tivoly Ave see map
URL:https://hillenroad.org/event/dumpster-day-3/
LOCATION:Dumpster Day Tivoly\, 1600 Tivoly Avenue\, Baltimore\, MD\, United States
CATEGORIES:Event
ATTACH;FMTTYPE=image/jpeg:https://hillenroad.org/wp-content/uploads/2022/05/Trashsm.jpg
END:VEVENT
BEGIN:VEVENT
DTSTART;TZID=America/New_York:20250524T100000
DTEND;TZID=America/New_York:20250524T120000
DTSTAMP:20260423T180639
CREATED:20250125T153749Z
LAST-MODIFIED:20250125T153958Z
UID:3734-1748080800-1748088000@hillenroad.org
SUMMARY:Community Meeting - Virtual
DESCRIPTION:Monthly Community Meeting\n4th Saturday of the Month \nVirtual Only\nZoom Meeting Join Us Click Here.     \nMeeting ID: 825 9270 2386 \nPasscode: hria2025 \nOr Phone Only  \nDial in: 301-715-8592 \nMeeting ID: 825 9270 2386 \nPasscode: 94869676
URL:https://hillenroad.org/event/community-meeting-virtual-2/
CATEGORIES:Community
END:VEVENT
BEGIN:VEVENT
DTSTART;TZID=America/New_York:20250426T100000
DTEND;TZID=America/New_York:20250426T120000
DTSTAMP:20260423T180639
CREATED:20220424T042558Z
LAST-MODIFIED:20250125T153645Z
UID:34-1745661600-1745668800@hillenroad.org
SUMMARY:Community Meeting - Zoom Only
DESCRIPTION:Monthly Community Meeting\n4th Saturday of the Month \nVirtual Only\nZoom Meeting Join Us Click Here.     \nMeeting ID: 825 9270 2386 \nPasscode: hria2025 \nOr Phone Only  \nDial in: 301-715-8592 \nMeeting ID: 825 9270 2386 \nPasscode: 94869676 \n 
URL:https://hillenroad.org/event/community-meeting/
LOCATION:Enoch Pratt Library – Northwood\, 4420 Loch Raven Blvd\, Baltimore\, MD\, 21218\, United States
CATEGORIES:Meetings
ATTACH;FMTTYPE=image/jpeg:https://hillenroad.org/wp-content/uploads/2022/04/Communitysm.jpg
END:VEVENT
BEGIN:VEVENT
DTSTART;TZID=America/New_York:20250424T190000
DTEND;TZID=America/New_York:20250424T203000
DTSTAMP:20260423T180639
CREATED:20230717T123453Z
LAST-MODIFIED:20250222T152518Z
UID:2956-1745521200-1745526600@hillenroad.org
SUMMARY:Police District Meeting
DESCRIPTION:Please join us for our monthly Northeastern District Commander’s meeting. The meeting will be hybrid. Address and Zoom (link and passcode listed below). \n*** (4th Thursday of each month @7pm) \nIn Person: \nNortheastern District \n1900 Argonne Drive \nBaltimore MD 21218 \n(RollCall room) \n~~~~~~~~~~~~~~~~~~ \nJoin Team Meeting \nhttps://teams.microsoft.com/l/meetup-join/19:meeting_ZGQyMzQ4YmYtNjIyNC00YTRlLWFjODMtMDEzNDhlOGY3YTVk@thread.v2/0?context=%7B%22Tid%22:%22312cb126-c6ae-4fc2-800d-318e679ce6c7%22\,%22Oid%22:%22d567fe6e-6878-417b-8465-be2119ea543a%22%7D \n 
URL:https://hillenroad.org/event/police-district-meeting-4/
CATEGORIES:Community
ATTACH;FMTTYPE=image/jpeg:https://hillenroad.org/wp-content/uploads/2022/08/Police.jpg
END:VEVENT
BEGIN:VEVENT
DTSTART;TZID=America/New_York:20250405T090000
DTEND;TZID=America/New_York:20250405T113000
DTSTAMP:20260423T180639
CREATED:20240323T153527Z
LAST-MODIFIED:20250321T012441Z
UID:3337-1743843600-1743852600@hillenroad.org
SUMMARY:Dumpster Day
DESCRIPTION:Time: 9am to 12pm \nLocation:  1600 Tivoly Avenue
URL:https://hillenroad.org/event/dumpster-day-2/
LOCATION:Dumpster Day Tivoly\, 1600 Tivoly Avenue\, Baltimore\, MD\, United States
CATEGORIES:Community,Event
ATTACH;FMTTYPE=image/jpeg:https://hillenroad.org/wp-content/uploads/2022/05/Trashsm.jpg
END:VEVENT
BEGIN:VEVENT
DTSTART;TZID=America/New_York:20250327T190000
DTEND;TZID=America/New_York:20250327T203000
DTSTAMP:20260423T180639
CREATED:20230717T123859Z
LAST-MODIFIED:20250222T152256Z
UID:2960-1743102000-1743107400@hillenroad.org
SUMMARY:Police District Meeting
DESCRIPTION:Please join us for our monthly Northeastern District Commander’s meeting. The meeting will be hybrid. Address and Zoom (link and passcode listed below). \n*** (4th Thursday of each month @7pm) \nIn Person: \nNortheastern District \n1900 Argonne Drive \nBaltimore MD 21218 \n(RollCall room) \n~~~~~~~~~~~~~~~~~~ \nJoin Teams Meeting \nhttps://teams.microsoft.com/l/meetup-join/19:meeting_ZGQyMzQ4YmYtNjIyNC00YTRlLWFjODMtMDEzNDhlOGY3YTVk@thread.v2/0?context=%7B%22Tid%22:%22312cb126-c6ae-4fc2-800d-318e679ce6c7%22\,%22Oid%22:%22d567fe6e-6878-417b-8465-be2119ea543a%22%7D
URL:https://hillenroad.org/event/police-district-meeting-6/
CATEGORIES:Community
ATTACH;FMTTYPE=image/jpeg:https://hillenroad.org/wp-content/uploads/2022/08/Police.jpg
END:VEVENT
BEGIN:VEVENT
DTSTART;TZID=America/New_York:20250322T100000
DTEND;TZID=America/New_York:20250322T120000
DTSTAMP:20260423T180639
CREATED:20241123T154543Z
LAST-MODIFIED:20250125T153543Z
UID:3706-1742637600-1742644800@hillenroad.org
SUMMARY:Community Meeting - Virtual
DESCRIPTION:Monthly Community Meeting\n4th Saturday of the Month \nVirtual Only\nZoom Meeting Join Us Click Here.     \nMeeting ID: 825 9270 2386 \nPasscode: hria2025 \nOr Phone Only  \nDial in: 301-715-8592 \nMeeting ID: 825 9270 2386 \nPasscode: 94869676
URL:https://hillenroad.org/event/community-meeting-virtual/
CATEGORIES:Community
ATTACH;FMTTYPE=image/jpeg:https://hillenroad.org/wp-content/uploads/2022/04/pexels-rodnae-productions-7414023-scaled.jpg
END:VEVENT
BEGIN:VEVENT
DTSTART;TZID=America/New_York:20250227T190000
DTEND;TZID=America/New_York:20250227T203000
DTSTAMP:20260423T180639
CREATED:20230717T123613Z
LAST-MODIFIED:20250222T152835Z
UID:2958-1740682800-1740688200@hillenroad.org
SUMMARY:Police District Meeting
DESCRIPTION:Please join us for our monthly Northeastern District Commander’s meeting. The meeting will be hybrid. Address and Zoom (link and passcode listed below). \n*** (4th Thursday of each month @7pm) \nIn Person: \nNortheastern District \n1900 Argonne Drive \nBaltimore MD 21218 \n(RollCall room) \n~~~~~~~~~~~~~~~~~~ \nTeam Meeting \nhttps://teams.microsoft.com/l/meetup-join/19:meeting_ZGQyMzQ4YmYtNjIyNC00YTRlLWFjODMtMDEzNDhlOGY3YTVk@thread.v2/0?context=%7B%22Tid%22:%22312cb126-c6ae-4fc2-800d-318e679ce6c7%22\,%22Oid%22:%22d567fe6e-6878-417b-8465-be2119ea543a%22%7D
URL:https://hillenroad.org/event/police-district-meeting-5/
CATEGORIES:Community
ATTACH;FMTTYPE=image/jpeg:https://hillenroad.org/wp-content/uploads/2022/08/Police.jpg
END:VEVENT
BEGIN:VEVENT
DTSTART;TZID=America/New_York:20250222T100000
DTEND;TZID=America/New_York:20250222T120000
DTSTAMP:20260423T180639
CREATED:20240223T214120Z
LAST-MODIFIED:20250125T152857Z
UID:3286-1740218400-1740225600@hillenroad.org
SUMMARY:Community Meeting - Zoom
DESCRIPTION:Monthly Community Meeting\n4th Saturday of the Month \nVirtual Only\nZoom Meeting Join Us Click Here.     \nMeeting ID: 825 9270 2386 \nPasscode: hria2025 \nOr Phone Only  \nDial in: 301-715-8592 \nMeeting ID: 825 9270 2386 \nPasscode: 94869676
URL:https://hillenroad.org/event/community-meeting-in-person-7/
CATEGORIES:Community
ATTACH;FMTTYPE=image/jpeg:https://hillenroad.org/wp-content/uploads/2022/09/forms1.jpg
END:VEVENT
BEGIN:VEVENT
DTSTART;TZID=America/New_York:20241123T100000
DTEND;TZID=America/New_York:20241123T120000
DTSTAMP:20260423T180639
CREATED:20230518T223553Z
LAST-MODIFIED:20241021T134952Z
UID:2891-1732356000-1732363200@hillenroad.org
SUMMARY:Community Meeting - Zoom
DESCRIPTION:Monthly Community Meeting\n4th Saturday of the Month \nVirtual Zoom\n  \nZoom Meeting Join Us Click Here.     \nMeeting ID: 831-6601 3342 \nPasscode: hria2023 \nOr Phone Only  \nDial in: 301-715-8592 \nMeeting ID: 831-6601 3342 \nPasscode: 59661404
URL:https://hillenroad.org/event/community-meeting-in-person-2/
CATEGORIES:Community,Meetings
ATTACH;FMTTYPE=image/jpeg:https://hillenroad.org/wp-content/uploads/2022/04/pexels-rodnae-productions-7414023-scaled.jpg
END:VEVENT
BEGIN:VEVENT
DTSTART;TZID=America/New_York:20241019T083000
DTEND;TZID=America/New_York:20241019T093000
DTSTAMP:20260423T180639
CREATED:20240806T131630Z
LAST-MODIFIED:20240806T131650Z
UID:3615-1729326600-1729330200@hillenroad.org
SUMMARY:Walk and Talk
DESCRIPTION:Meet at Hillen and 33rd entrance
URL:https://hillenroad.org/event/walk-and-talk-5/
LOCATION:Lake Montebello\, Baltimore\, MD\, United States
CATEGORIES:Event
ATTACH;FMTTYPE=image/png:https://hillenroad.org/wp-content/uploads/2022/04/Walk-and-Talk.png
END:VEVENT
BEGIN:VEVENT
DTSTART;TZID=America/New_York:20241015T180000
DTEND;TZID=America/New_York:20241015T190000
DTSTAMP:20260423T180639
CREATED:20230717T124319Z
LAST-MODIFIED:20240806T125447Z
UID:2964-1729015200-1729018800@hillenroad.org
SUMMARY:Activities and Event Committee
DESCRIPTION:We meet the 3rd Tuesday of every Month at 6pm.  Come join us. \nZoom Meeting Connect Click Here.     \nMeeting ID: 831-6601 3342 \nPasscode: hria2023 \nOr Phone Only  \nDial in: 301-715-8592 \nMeeting ID: 831-6601 3342 \nPasscode: 59661404
URL:https://hillenroad.org/event/activities-and-event-committee-5/
CATEGORIES:Committee
ATTACH;FMTTYPE=image/jpeg:https://hillenroad.org/wp-content/uploads/2022/09/Christmas-Partysm.jpg
END:VEVENT
BEGIN:VEVENT
DTSTART;TZID=America/New_York:20241009T183000
DTEND;TZID=America/New_York:20241009T190000
DTSTAMP:20260423T180639
CREATED:20230717T125446Z
LAST-MODIFIED:20240806T125131Z
UID:2968-1728498600-1728500400@hillenroad.org
SUMMARY:Housing and Environment Committee
DESCRIPTION:We meet the 2nd Wednesday of the Month at 6:30pm \nJoin Zoom Meeting\nhttps://us02web.zoom.us/j/86735131536?pwd=VWxlUnJpeVBCR0owQlZUQnlQMDJUZz09\n\nMeeting ID: 867 3513 1536\nPasscode: 588659
URL:https://hillenroad.org/event/housing-and-environment-committee-2/
CATEGORIES:Committee
ATTACH;FMTTYPE=image/jpeg:https://hillenroad.org/wp-content/uploads/2022/05/Man-in-Park.jpg
END:VEVENT
END:VCALENDAR