BEGIN:VCALENDAR
VERSION:2.0
PRODID:-//HRIA - ECPv6.15.20//NONSGML v1.0//EN
CALSCALE:GREGORIAN
METHOD:PUBLISH
X-ORIGINAL-URL:https://hillenroad.org
X-WR-CALDESC:Events for HRIA
REFRESH-INTERVAL;VALUE=DURATION:PT1H
X-Robots-Tag:noindex
X-PUBLISHED-TTL:PT1H
BEGIN:VTIMEZONE
TZID:America/New_York
BEGIN:DAYLIGHT
TZOFFSETFROM:-0500
TZOFFSETTO:-0400
TZNAME:EDT
DTSTART:20230312T070000
END:DAYLIGHT
BEGIN:STANDARD
TZOFFSETFROM:-0400
TZOFFSETTO:-0500
TZNAME:EST
DTSTART:20231105T060000
END:STANDARD
BEGIN:DAYLIGHT
TZOFFSETFROM:-0500
TZOFFSETTO:-0400
TZNAME:EDT
DTSTART:20240310T070000
END:DAYLIGHT
BEGIN:STANDARD
TZOFFSETFROM:-0400
TZOFFSETTO:-0500
TZNAME:EST
DTSTART:20241103T060000
END:STANDARD
BEGIN:DAYLIGHT
TZOFFSETFROM:-0500
TZOFFSETTO:-0400
TZNAME:EDT
DTSTART:20250309T070000
END:DAYLIGHT
BEGIN:STANDARD
TZOFFSETFROM:-0400
TZOFFSETTO:-0500
TZNAME:EST
DTSTART:20251102T060000
END:STANDARD
END:VTIMEZONE
BEGIN:VEVENT
DTSTART;TZID=America/New_York:20240911T063000
DTEND;TZID=America/New_York:20240911T193000
DTSTAMP:20260424T212010
CREATED:20240806T125828Z
LAST-MODIFIED:20240806T131709Z
UID:3609-1726036200-1726083000@hillenroad.org
SUMMARY:Housing and Environment Committee
DESCRIPTION:We meet the 2nd Wednesday of the Month at 6:30pm \nJoin Zoom Meeting\nhttps://us02web.zoom.us/j/86735131536?pwd=VWxlUnJpeVBCR0owQlZUQnlQMDJUZz09\n\nMeeting ID: 867 3513 1536\nPasscode: 588659
URL:https://hillenroad.org/event/housing-and-environment-committee-3/
CATEGORIES:Committee
ATTACH;FMTTYPE=image/jpeg:https://hillenroad.org/wp-content/uploads/2022/05/Man-in-Park.jpg
END:VEVENT
END:VCALENDAR