BEGIN:VCALENDAR
VERSION:2.0
PRODID:-//HRIA - ECPv6.15.20//NONSGML v1.0//EN
CALSCALE:GREGORIAN
METHOD:PUBLISH
X-ORIGINAL-URL:https://hillenroad.org
X-WR-CALDESC:Events for HRIA
REFRESH-INTERVAL;VALUE=DURATION:PT1H
X-Robots-Tag:noindex
X-PUBLISHED-TTL:PT1H
BEGIN:VTIMEZONE
TZID:America/New_York
BEGIN:DAYLIGHT
TZOFFSETFROM:-0500
TZOFFSETTO:-0400
TZNAME:EDT
DTSTART:20230312T070000
END:DAYLIGHT
BEGIN:STANDARD
TZOFFSETFROM:-0400
TZOFFSETTO:-0500
TZNAME:EST
DTSTART:20231105T060000
END:STANDARD
BEGIN:DAYLIGHT
TZOFFSETFROM:-0500
TZOFFSETTO:-0400
TZNAME:EDT
DTSTART:20240310T070000
END:DAYLIGHT
BEGIN:STANDARD
TZOFFSETFROM:-0400
TZOFFSETTO:-0500
TZNAME:EST
DTSTART:20241103T060000
END:STANDARD
BEGIN:DAYLIGHT
TZOFFSETFROM:-0500
TZOFFSETTO:-0400
TZNAME:EDT
DTSTART:20250309T070000
END:DAYLIGHT
BEGIN:STANDARD
TZOFFSETFROM:-0400
TZOFFSETTO:-0500
TZNAME:EST
DTSTART:20251102T060000
END:STANDARD
END:VTIMEZONE
BEGIN:VEVENT
DTSTART;TZID=America/New_York:20240320T180000
DTEND;TZID=America/New_York:20240320T190000
DTSTAMP:20260425T070242
CREATED:20240224T164324Z
LAST-MODIFIED:20240224T164324Z
UID:3299-1710957600-1710961200@hillenroad.org
SUMMARY:Activities and Event Committee
DESCRIPTION:We meet the 3rd Tuesday of every Month at 6pm.  Come join us. \nZoom Meeting Connect Click Here.     \nMeeting ID: 831-6601 3342 \nPasscode: hria2023 \nOr Phone Only  \nDial in: 301-715-8592 \nMeeting ID: 831-6601 3342 \nPasscode: 59661404
URL:https://hillenroad.org/event/activities-and-event-committee-6/
CATEGORIES:Committee
ATTACH;FMTTYPE=image/jpeg:https://hillenroad.org/wp-content/uploads/2022/05/Activity1.jpg
END:VEVENT
END:VCALENDAR