BEGIN:VCALENDAR
VERSION:2.0
PRODID:-//HRIA - ECPv6.15.20//NONSGML v1.0//EN
CALSCALE:GREGORIAN
METHOD:PUBLISH
X-WR-CALNAME:HRIA
X-ORIGINAL-URL:https://hillenroad.org
X-WR-CALDESC:Events for HRIA
REFRESH-INTERVAL;VALUE=DURATION:PT1H
X-Robots-Tag:noindex
X-PUBLISHED-TTL:PT1H
BEGIN:VTIMEZONE
TZID:America/New_York
BEGIN:DAYLIGHT
TZOFFSETFROM:-0500
TZOFFSETTO:-0400
TZNAME:EDT
DTSTART:20220313T070000
END:DAYLIGHT
BEGIN:STANDARD
TZOFFSETFROM:-0400
TZOFFSETTO:-0500
TZNAME:EST
DTSTART:20221106T060000
END:STANDARD
BEGIN:DAYLIGHT
TZOFFSETFROM:-0500
TZOFFSETTO:-0400
TZNAME:EDT
DTSTART:20230312T070000
END:DAYLIGHT
BEGIN:STANDARD
TZOFFSETFROM:-0400
TZOFFSETTO:-0500
TZNAME:EST
DTSTART:20231105T060000
END:STANDARD
BEGIN:DAYLIGHT
TZOFFSETFROM:-0500
TZOFFSETTO:-0400
TZNAME:EDT
DTSTART:20240310T070000
END:DAYLIGHT
BEGIN:STANDARD
TZOFFSETFROM:-0400
TZOFFSETTO:-0500
TZNAME:EST
DTSTART:20241103T060000
END:STANDARD
END:VTIMEZONE
BEGIN:VEVENT
DTSTART;TZID=America/New_York:20230921T100000
DTEND;TZID=America/New_York:20230921T130000
DTSTAMP:20260425T143929
CREATED:20230729T233938Z
LAST-MODIFIED:20230729T233938Z
UID:3003-1695290400-1695301200@hillenroad.org
SUMMARY:Veterans/Military Community Resource & Hiring Event
DESCRIPTION:Date: Thursday\, September 21\, 2023   \nBaltimore War Memorial   \n101 N Gay St D\, Baltimore\, MD 21202   \nTime: 10am – 1:00pm   \nPlease share and send referrals: ALL ARE WELCOMED   \nTo Register Job Seekers: https://forms.office.com/g/6rhggC7eXJ   \nThank you 🙂 \nDeral Falls\, Workforce Supervisor   \n\n\n______________________\nDeral Falls\nPronoun:(He/Him)\nWorkforce Supervisor\,\nEmployer Services Division\nMayor’s Office of Employment Development\nPhone: (410) 545-6264\nEmail: dfalls@oedworks.com
URL:https://hillenroad.org/event/veterans-military-community-resource-hiring-event/
LOCATION:MD
CATEGORIES:Event
END:VEVENT
END:VCALENDAR