BEGIN:VCALENDAR
VERSION:2.0
PRODID:-//HRIA - ECPv6.15.20//NONSGML v1.0//EN
CALSCALE:GREGORIAN
METHOD:PUBLISH
X-WR-CALNAME:HRIA
X-ORIGINAL-URL:https://hillenroad.org
X-WR-CALDESC:Events for HRIA
REFRESH-INTERVAL;VALUE=DURATION:PT1H
X-Robots-Tag:noindex
X-PUBLISHED-TTL:PT1H
BEGIN:VTIMEZONE
TZID:America/New_York
BEGIN:DAYLIGHT
TZOFFSETFROM:-0500
TZOFFSETTO:-0400
TZNAME:EDT
DTSTART:20230312T070000
END:DAYLIGHT
BEGIN:STANDARD
TZOFFSETFROM:-0400
TZOFFSETTO:-0500
TZNAME:EST
DTSTART:20231105T060000
END:STANDARD
BEGIN:DAYLIGHT
TZOFFSETFROM:-0500
TZOFFSETTO:-0400
TZNAME:EDT
DTSTART:20240310T070000
END:DAYLIGHT
BEGIN:STANDARD
TZOFFSETFROM:-0400
TZOFFSETTO:-0500
TZNAME:EST
DTSTART:20241103T060000
END:STANDARD
BEGIN:DAYLIGHT
TZOFFSETFROM:-0500
TZOFFSETTO:-0400
TZNAME:EDT
DTSTART:20250309T070000
END:DAYLIGHT
BEGIN:STANDARD
TZOFFSETFROM:-0400
TZOFFSETTO:-0500
TZNAME:EST
DTSTART:20251102T060000
END:STANDARD
END:VTIMEZONE
BEGIN:VEVENT
DTSTART;TZID=America/New_York:20240817T083000
DTEND;TZID=America/New_York:20240817T093000
DTSTAMP:20260424T193701
CREATED:20230527T142333Z
LAST-MODIFIED:20240806T131416Z
UID:2901-1723883400-1723887000@hillenroad.org
SUMMARY:Walk and Talk
DESCRIPTION:Enjoy conversation while walking around Lake Montebello.  All are welcome \n3rd Saturday of the Month \nParticipants will meet at 9am by the Whitman Drive stop sign at the E33rd Entrance.
URL:https://hillenroad.org/event/walk-and-talk/
LOCATION:Lake Montebello\, Baltimore\, MD\, United States
CATEGORIES:Event
ATTACH;FMTTYPE=image/png:https://hillenroad.org/wp-content/uploads/2022/04/Walk-and-Talk.png
END:VEVENT
END:VCALENDAR